BEGIN:VCALENDAR
VERSION:2.0
PRODID:-//Plone.org//NONSGML plone.app.event//EN
X-WR-TIMEZONE:Europe/Berlin
BEGIN:VEVENT
SUMMARY:Kochen mit der Abnehmgruppe: Frühjahrsauflauf
DTSTART;TZID=Europe/Berlin:20260423T190000
DTSTAMP:20260423T151213Z
UID:1806bd518c8243eb94c4ec5cd455568a@127.0.0.1:8081
CATEGORIES:beitrag2026
CREATED:20241104T082442Z
DESCRIPTION:Gemeinsam kochen wir eine Rezept mit maximal 600kcal pro Porti
 on. Bitte vorher anmelden! Bitte Geld für die Zutaten mitbringen!
LAST-MODIFIED:20260326T104026Z
URL:https://kilopurzel.de/storage/termine/kochen-1
END:VEVENT
BEGIN:VTIMEZONE
TZID:Europe/Berlin
X-LIC-LOCATION:Europe/Berlin
BEGIN:DAYLIGHT
DTSTART:20260329T030000
TZNAME:CEST
TZOFFSETFROM:+0100
TZOFFSETTO:+0200
END:DAYLIGHT
END:VTIMEZONE
END:VCALENDAR
