BEGIN:VCALENDAR
VERSION:2.0
PRODID:-//Plone.org//NONSGML plone.app.event//EN
X-WR-TIMEZONE:Europe/Berlin
BEGIN:VEVENT
SUMMARY:Kochen mit der Abnehmgruppe: Brot Ideen
DTSTART;TZID=Europe/Berlin:20260416T190000
DTSTAMP:20260423T163756Z
UID:6c8243b4ed1c4c1d9186bb35c4c82ab4@127.0.0.1:8081
CATEGORIES:beitrag2026
CREATED:20241104T082156Z
DESCRIPTION:Gemeinsam kochen wir eine Rezept mit maximal 600kcal pro Porti
 on. Bitte vorher anmelden! Bitte Geld für die Zutaten mitbringen!
LAST-MODIFIED:20260326T103935Z
URL:https://kilopurzel.de/storage/termine/kochen-4
END:VEVENT
BEGIN:VTIMEZONE
TZID:Europe/Berlin
X-LIC-LOCATION:Europe/Berlin
BEGIN:DAYLIGHT
DTSTART:20260329T030000
TZNAME:CEST
TZOFFSETFROM:+0100
TZOFFSETTO:+0200
END:DAYLIGHT
END:VTIMEZONE
END:VCALENDAR
